BEGIN:VCALENDAR
VERSION:2.0
PRODID:-//wp-events-plugin.com//7.2.3.1//EN
TZID:America/New_York
X-WR-TIMEZONE:America/New_York
BEGIN:VEVENT
UID:554@macontracks.org
DTSTART;TZID=America/New_York:20230520T073000
DTEND;TZID=America/New_York:20230520T073000
DTSTAMP:20230512T144422Z
URL:https://macontracks.org/events/10th-annual-georgia-jugfest-5k-and-1-mi
 le-fun-run/
SUMMARY:10th Annual Georgia JugFest 5K and 1-Mile Fun Run
DESCRIPTION:\nEnjoy a morning run and then stay for the Georgia JugFest and
  Old Knoxville Days Festival after the race. All proceeds benefit the Craw
 ford County Historical Society and the Old Courthouse Restoration Project.
   Run fast and score a cool pottery award!  This race is part of the Mac
 on Tracks OrthoGeorgia Race Series. Photos from the 2022 JugFest. Race Map
  (pdf)\n
ATTACH;FMTTYPE=image/jpeg:https://macontracks.org/wp-content/uploads/2023/
 01/jugfest-orthoga-3.png
CATEGORIES:5K,Fun Run,THIS IS A MACON TRACKS/ORTHOGA POINTS SERIES RACE
LOCATION:Old Knoxville Courthouse\, State Route 42 S and Hortman Mill Rd\, 
 Knoxville\, GA\, United States
GEO:32.7240619;-83.997949
X-APPLE-STRUCTURED-LOCATION;VALUE=URI;X-ADDRESS=State Route 42 S and Hortma
 n Mill Rd\, Knoxville\, GA\, United States;X-APPLE-RADIUS=100;X-TITLE=Old 
 Knoxville Courthouse:geo:32.7240619,-83.997949
END:VEVENT
BEGIN:VTIMEZONE
TZID:America/New_York
X-LIC-LOCATION:America/New_York
BEGIN:DAYLIGHT
DTSTART:20230312T030000
TZOFFSETFROM:-0500
TZOFFSETTO:-0400
TZNAME:EDT
END:DAYLIGHT
END:VTIMEZONE
END:VCALENDAR