BEGIN:VCALENDAR
VERSION:2.0
PRODID:-//wp-events-plugin.com//7.2.3.1//EN
TZID:America/New_York
X-WR-TIMEZONE:America/New_York
BEGIN:VEVENT
UID:403@macontracks.org
DTSTART;TZID=America/New_York:20200919T080000
DTEND;TZID=America/New_York:20200919T080000
DTSTAMP:20200803T213929Z
URL:https://macontracks.org/events/11th-annual-all-about-animals-5k-10-2k-
 and-1-mile-fun-run/
SUMMARY:[CANCELED] 11th Annual All About Animals 5K\, 10.2K\, and 1 Mile Fu
 n Run
DESCRIPTION:Walk\, Bark\, Run! Join All About Animals for its 11th annual R
 escue Run with race proceeds benefiting the no-kill shelter’s rescue and
  adoption efforts. All races begin and end at Mt. Zion Baptist Church on R
 ivoli Drive with three different courses – 1M\, 5K\, and 10.2K. This rac
 e is part of the Macon Tracks Ortho Georgia Race Series.\nCANCELED\n 
ATTACH;FMTTYPE=image/jpeg:https://macontracks.org/wp-content/uploads/2015/
 09/AllAboutAnimals-600x315.png
CATEGORIES:5K,Fun Run,THIS IS A MACON TRACKS/ORTHOGA POINTS SERIES RACE
LOCATION:Mt. Zion Baptist Church\, 7015 Rivoli Road\, Macon\, Georgia\, 312
 10\, Bibb County\, United States
GEO:32.926176;-83.785698
X-APPLE-STRUCTURED-LOCATION;VALUE=URI;X-ADDRESS=7015 Rivoli Road\, Macon\, 
 Georgia\, 31210\, Bibb County\, United States;X-APPLE-RADIUS=100;X-TITLE=M
 t. Zion Baptist Church:geo:32.926176,-83.785698
END:VEVENT
BEGIN:VTIMEZONE
TZID:America/New_York
X-LIC-LOCATION:America/New_York
BEGIN:DAYLIGHT
DTSTART:20200308T030000
TZOFFSETFROM:-0500
TZOFFSETTO:-0400
TZNAME:EDT
END:DAYLIGHT
END:VTIMEZONE
END:VCALENDAR