BEGIN:VCALENDAR
VERSION:2.0
PRODID:-//wp-events-plugin.com//7.2.3.1//EN
TZID:America/New_York
X-WR-TIMEZONE:America/New_York
BEGIN:VEVENT
UID:749@macontracks.org
DTSTART;TZID=America/New_York:20260425T080000
DTEND;TZID=America/New_York:20260425T080000
DTSTAMP:20260224T011713Z
URL:https://macontracks.org/events/2nd-annual-st-james-baptist-church-walk
 -of-faith-5k/
SUMMARY:2nd Annual St. James Baptist Church Walk of Faith 5K
DESCRIPTION: \nCome with family\, friends\, and community members for fun\,
  fitness\, and fellowship. Whether you're a seasoned runner or prefer a st
 roll\, this event is perfect for all ages and fitness levels. Proceeds fro
 m the event will support church ministry and community projects.  
ATTACH;FMTTYPE=image/jpeg:https://macontracks.org/wp-content/uploads/2025/
 02/walk-of-faith.png
CATEGORIES:5K,Distance
LOCATION:St. James Baptist Church\, 110 James St.\, Forsyth\, GA\, 31029\, 
 United States
X-APPLE-STRUCTURED-LOCATION;VALUE=URI;X-ADDRESS=110 James St.\, Forsyth\, G
 A\, 31029\, United States;X-APPLE-RADIUS=100;X-TITLE=St. James Baptist Chu
 rch:geo:0,0
END:VEVENT
BEGIN:VTIMEZONE
TZID:America/New_York
X-LIC-LOCATION:America/New_York
BEGIN:DAYLIGHT
DTSTART:20260308T030000
TZOFFSETFROM:-0500
TZOFFSETTO:-0400
TZNAME:EDT
END:DAYLIGHT
END:VTIMEZONE
END:VCALENDAR