BEGIN:VCALENDAR
VERSION:2.0
PRODID:-//wp-events-plugin.com//7.2.3.1//EN
TZID:America/New_York
X-WR-TIMEZONE:America/New_York
BEGIN:VEVENT
UID:495@macontracks.org
DTSTART;TZID=America/New_York:20220108T090000
DTEND;TZID=America/New_York:20220108T090000
DTSTAMP:20211117T152527Z
URL:https://macontracks.org/events/3rd-annual-kiwanis-january-jaunt-5k-2/
SUMMARY:4th Annual Kiwanis January Jaunt 5K
DESCRIPTION:This is a great opportunity to support the Kiwanis programs and
  scholarships that support youth in middle Georgia and to run a certified\
 , chip-timed cross-country 5K course on the campus of Middle Georgia Unive
 rsity. Race Flyer\n\n&nbsp\;
ATTACH;FMTTYPE=image/jpeg:https://macontracks.org/wp-content/uploads/2021/
 11/January-Jaunt-2022.png
CATEGORIES:5K
LOCATION:Georgia Premier Cross Country Course\, 3450 Fulton Mill Road\, Mac
 on\, Georgia\, 31216\, Bibb County\, United States
GEO:32.8081222;-83.7454685
X-APPLE-STRUCTURED-LOCATION;VALUE=URI;X-ADDRESS=3450 Fulton Mill Road\, Mac
 on\, Georgia\, 31216\, Bibb County\, United States;X-APPLE-RADIUS=100;X-TI
 TLE=Georgia Premier Cross Country Course:geo:32.8081222,-83.7454685
END:VEVENT
BEGIN:VTIMEZONE
TZID:America/New_York
X-LIC-LOCATION:America/New_York
BEGIN:STANDARD
DTSTART:20211107T010000
TZOFFSETFROM:-0400
TZOFFSETTO:-0500
TZNAME:EST
END:STANDARD
END:VTIMEZONE
END:VCALENDAR