BEGIN:VCALENDAR
VERSION:2.0
PRODID:-//wp-events-plugin.com//7.2.3.1//EN
TZID:America/New_York
X-WR-TIMEZONE:America/New_York
BEGIN:VEVENT
UID:489@macontracks.org
DTSTART;TZID=America/New_York:20211023T200000
DTEND;TZID=America/New_York:20211023T220000
DTSTAMP:20210929T214421Z
URL:https://macontracks.org/events/6th-annual-back-the-blue-glow-run-5k-an
 d-10k/
SUMMARY:6th Annual Back the Blue Glow Run 5K and 10K
DESCRIPTION:Our race will be held in person starting in the parking lot of 
 Freedom Field.  A t-shirt and medal are included with all race registrati
 ons.  All funds raised will be going to the Law Enforcement Torch Run for
  Special Olympics Georgia.  This is the largest annual fundraising event 
 benefiting Special Olympics Georgia.
ATTACH;FMTTYPE=image/jpeg:https://macontracks.org/wp-content/uploads/2016/
 03/BackTheBlue-e1459278527890.png
CATEGORIES:10K,5K
LOCATION:Houston County High School Freedom Field\, 111 Bear Country Blvd\,
  Warner Robins\, GA\, 31088\, United States
GEO:32.552603;-83.679309
X-APPLE-STRUCTURED-LOCATION;VALUE=URI;X-ADDRESS=111 Bear Country Blvd\, War
 ner Robins\, GA\, 31088\, United States;X-APPLE-RADIUS=100;X-TITLE=Houston
  County High School Freedom Field:geo:32.552603,-83.679309
END:VEVENT
BEGIN:VTIMEZONE
TZID:America/New_York
X-LIC-LOCATION:America/New_York
BEGIN:DAYLIGHT
DTSTART:20210314T030000
TZOFFSETFROM:-0500
TZOFFSETTO:-0400
TZNAME:EDT
END:DAYLIGHT
END:VTIMEZONE
END:VCALENDAR