BEGIN:VCALENDAR
VERSION:2.0
PRODID:-//wp-events-plugin.com//7.2.3.1//EN
TZID:America/New_York
X-WR-TIMEZONE:America/New_York
BEGIN:VEVENT
UID:395@macontracks.org
DTSTART;TZID=America/New_York:20200411T080000
DTEND;TZID=America/New_York:20200411T080000
DTSTAMP:20200326T122212Z
URL:https://macontracks.org/events/7th-annual-running-thru-history-5k-and-
 fun-run/
SUMMARY:7th Annual Running Thru History 5K and Fun Run
DESCRIPTION:CANCELED\n\nThe Andersonville National Historic Site was one of
  the largest Confederate military prisons during the Civil War. During the
  14 months the prison existed\, more than 45\,000 Union soldiers were conf
 ined here. Of these\, almost 13\,000 died here. Proceeds will be used to b
 enefit Macon County Recreation and Friends of Andersonville. Registered by
  March 31st to receive a T-shirt and a Pac Bag filled with goodies. Awards
  are presented to the top three male and female finishers in each of 16 ag
 e groups. Fantastic door prizes!
ATTACH;FMTTYPE=image/jpeg:https://macontracks.org/wp-content/uploads/2020/
 02/Running-thru-history-5K.png
CATEGORIES:Black Bag Race Series,Clover Glove Race Series,Run and See
 Georgia Grand Prix
LOCATION:Andersonville National Cemetery\, 760 POW Rd\, Andersonville\, Geo
 rgia\, 31711\, Sumter County\, United States
GEO:32.200119;-84.129837
X-APPLE-STRUCTURED-LOCATION;VALUE=URI;X-ADDRESS=760 POW Rd\, Andersonville\
 , Georgia\, 31711\, Sumter County\, United States;X-APPLE-RADIUS=100;X-TIT
 LE=Andersonville National Cemetery:geo:32.200119,-84.129837
END:VEVENT
BEGIN:VTIMEZONE
TZID:America/New_York
X-LIC-LOCATION:America/New_York
BEGIN:DAYLIGHT
DTSTART:20200308T030000
TZOFFSETFROM:-0500
TZOFFSETTO:-0400
TZNAME:EDT
END:DAYLIGHT
END:VTIMEZONE
END:VCALENDAR