BEGIN:VCALENDAR
VERSION:2.0
PRODID:-//wp-events-plugin.com//7.2.3.1//EN
TZID:America/New_York
X-WR-TIMEZONE:America/New_York
BEGIN:VEVENT
UID:689@macontracks.org
DTSTART;TZID=America/New_York:20250322T080000
DTEND;TZID=America/New_York:20250322T080000
DTSTAMP:20250116T132045Z
URL:https://macontracks.org/events/8th-annual-mcac-fit-to-achieve-5k/
SUMMARY:8th Annual MCAC Fit To Achieve 5K
DESCRIPTION:\nAs part of a service-learning project for our students\, we p
 romote a healthy lifestyle by encouraging everyone to exercise and make he
 althy food choices. The race is a 5K course beginning and ending at the Mo
 nroe County Achievement Center in Forsyth\, GA.  Awards will be given to 
 the top three male and female finishers in each age group 6-75+.  Awards 
 will also be given for the best-dressed group and the most creative costum
 e! All proceeds will be used to enhance the students' educational experien
 ce at the Monroe County Achievement Center. We hope that you can participa
 te!\nRace Contact Info: kellis.boland@mcschools.org
ATTACH;FMTTYPE=image/jpeg:https://macontracks.org/wp-content/uploads/2023/
 01/Fit-to-Achieve-2023.png
CATEGORIES:5K
LOCATION:Monroe Country Achievement Center\, 433 Highway 41 South\, Forsyth
 \, Georgia\, 31029\, United States
X-APPLE-STRUCTURED-LOCATION;VALUE=URI;X-ADDRESS=433 Highway 41 South\, Fors
 yth\, Georgia\, 31029\, United States;X-APPLE-RADIUS=100;X-TITLE=Monroe Co
 untry Achievement Center:geo:0,0
END:VEVENT
BEGIN:VTIMEZONE
TZID:America/New_York
X-LIC-LOCATION:America/New_York
BEGIN:DAYLIGHT
DTSTART:20250309T030000
TZOFFSETFROM:-0500
TZOFFSETTO:-0400
TZNAME:EDT
END:DAYLIGHT
END:VTIMEZONE
END:VCALENDAR