BEGIN:VCALENDAR
VERSION:2.0
PRODID:-//wp-events-plugin.com//7.2.3.1//EN
TZID:America/New_York
X-WR-TIMEZONE:America/New_York
BEGIN:VEVENT
UID:337@macontracks.org
DTSTART;TZID=America/New_York:20190817T073000
DTEND;TZID=America/New_York:20190817T073000
DTSTAMP:20190528T140317Z
URL:https://macontracks.org/events/apple-a-day-5k-4/
SUMMARY:Apple-A-Day 5K
DESCRIPTION:This 5th annual Apple-A-Day 5K funds Girl Scout Troop 60667's s
 ervice projects. The race will be held at Central City Park\, Macon\, Ga. 
 It's a flat and fast certified course. The race medals are designed and ma
 de by the scouts.
ATTACH;FMTTYPE=image/jpeg:https://macontracks.org/wp-content/uploads/2017/
 04/new-logo.png
CATEGORIES:5K
LOCATION:Central City Park\, 115 Willie Smokie Glover Dr\, Macon\, GA\, Uni
 ted States
GEO:32.8326227;-83.61603339999999
X-APPLE-STRUCTURED-LOCATION;VALUE=URI;X-ADDRESS=115 Willie Smokie Glover Dr
 \, Macon\, GA\, United States;X-APPLE-RADIUS=100;X-TITLE=Central City Park
 :geo:32.8326227,-83.61603339999999
END:VEVENT
BEGIN:VTIMEZONE
TZID:America/New_York
X-LIC-LOCATION:America/New_York
BEGIN:DAYLIGHT
DTSTART:20190310T030000
TZOFFSETFROM:-0500
TZOFFSETTO:-0400
TZNAME:EDT
END:DAYLIGHT
END:VTIMEZONE
END:VCALENDAR