BEGIN:VCALENDAR
VERSION:2.0
PRODID:-//wp-events-plugin.com//7.2.3.1//EN
TZID:America/New_York
X-WR-TIMEZONE:America/New_York
BEGIN:VEVENT
UID:362@macontracks.org
DTSTART;TZID=America/New_York:20221105T090000
DTEND;TZID=America/New_York:20221105T090000
DTSTAMP:20220811T001423Z
URL:https://macontracks.org/events/book-bolt-5k-run-walk/
SUMMARY:7th Annual Book Bolt 5K Run/Walk
DESCRIPTION:\n\n\n\n\n\n&nbsp\;\n\nThis is a community partnership event to
  raise money for the Griffin-Spalding County Library\, promote awareness o
 f library services\, have fun\, and promote health and wellness. Runners\,
  walkers\, strollers\, volunteers\, children\, and library lovers are all 
 invited to participate in this fantastic family-friendly event. The race r
 oute takes you through shady\, quiet neighborhoods.
ATTACH;FMTTYPE=image/jpeg:https://macontracks.org/wp-content/uploads/2019/
 08/Book-Bolt-Logo-2022.png
CATEGORIES:5K
LOCATION:Griffin Memorial Stadium\, 310 E Poplar Street\, Griffin\, Georgia
 \, 30224\, Spalding County\, United States
GEO:33.245623;-84.25982
X-APPLE-STRUCTURED-LOCATION;VALUE=URI;X-ADDRESS=310 E Poplar Street\, Griff
 in\, Georgia\, 30224\, Spalding County\, United States;X-APPLE-RADIUS=100;
 X-TITLE=Griffin Memorial Stadium:geo:33.245623,-84.25982
END:VEVENT
BEGIN:VTIMEZONE
TZID:America/New_York
X-LIC-LOCATION:America/New_York
BEGIN:DAYLIGHT
DTSTART:20220313T030000
TZOFFSETFROM:-0500
TZOFFSETTO:-0400
TZNAME:EDT
END:DAYLIGHT
END:VTIMEZONE
END:VCALENDAR