BEGIN:VCALENDAR
VERSION:2.0
PRODID:-//wp-events-plugin.com//7.2.3.1//EN
TZID:America/New_York
X-WR-TIMEZONE:America/New_York
BEGIN:VEVENT
UID:372@macontracks.org
DTSTART;TZID=America/New_York:20200307T080000
DTEND;TZID=America/New_York:20200307T080000
DTSTAMP:20191007T194025Z
URL:https://macontracks.org/events/breezin-thru-the-orchards-2/
SUMMARY:Breezin' thru the Orchards
DESCRIPTION:Runners will make their way along the dirt roads in the crisp m
 orning air that weave through groves of blooming fruit trees at Lane's Sou
 thern Orchards. Proceeds from this event go to support the Pilot Club of 
 Warner Robins which contributes to the betterment of the community through
  various service projects and scholarships. Pilot’s focus has always bee
 n service to others.
ATTACH;FMTTYPE=image/jpeg:https://macontracks.org/wp-content/uploads/2019/
 02/breezin-final-e1570477160776.png
CATEGORIES:5K
LOCATION:Lanes's Southern Orchards\, 500 Lane Road\, Fort Valley\, Georgia\
 , 31030\, Peach County\, United States
GEO:32.561833;-83.828291
X-APPLE-STRUCTURED-LOCATION;VALUE=URI;X-ADDRESS=500 Lane Road\, Fort Valley
 \, Georgia\, 31030\, Peach County\, United States;X-APPLE-RADIUS=100;X-TIT
 LE=Lanes's Southern Orchards:geo:32.561833,-83.828291
END:VEVENT
BEGIN:VTIMEZONE
TZID:America/New_York
X-LIC-LOCATION:America/New_York
BEGIN:STANDARD
DTSTART:20191103T010000
TZOFFSETFROM:-0400
TZOFFSETTO:-0500
TZNAME:EST
END:STANDARD
END:VTIMEZONE
END:VCALENDAR