BEGIN:VCALENDAR
VERSION:2.0
PRODID:-//wp-events-plugin.com//7.2.3.1//EN
TZID:America/New_York
X-WR-TIMEZONE:America/New_York
BEGIN:VEVENT
UID:753@macontracks.org
DTSTART;TZID=America/New_York:20260425T090000
DTEND;TZID=America/New_York:20260425T110000
DTSTAMP:20260321T235324Z
URL:https://macontracks.org/events/col-allen-carr-memorial-5k-4/
SUMMARY:Col. Allen Carr Memorial 5K
DESCRIPTION:Honoring All Who Served\nThis event is part of the annual Veter
 ans Day Celebration in Gray. It is a tribute to a local veteran and honors
  all who served.\nFor information about the race and to register\, click H
 ERE.
ATTACH;FMTTYPE=image/jpeg:https://macontracks.org/wp-content/uploads/2022/
 09/Col-Allen-Carr-5K.png
CATEGORIES:5K
LOCATION:Knox Civic Center\, 161 West Clinton St\, Gray\, GA\, United State
 s
GEO:33.0078778;-83.53886109999996
X-APPLE-STRUCTURED-LOCATION;VALUE=URI;X-ADDRESS=161 West Clinton St\, Gray\
 , GA\, United States;X-APPLE-RADIUS=100;X-TITLE=Knox Civic Center:geo:33.0
 078778,-83.53886109999996
END:VEVENT
BEGIN:VTIMEZONE
TZID:America/New_York
X-LIC-LOCATION:America/New_York
BEGIN:DAYLIGHT
DTSTART:20260308T030000
TZOFFSETFROM:-0500
TZOFFSETTO:-0400
TZNAME:EDT
END:DAYLIGHT
END:VTIMEZONE
END:VCALENDAR