BEGIN:VCALENDAR
VERSION:2.0
PRODID:-//wp-events-plugin.com//7.2.3.1//EN
TZID:America/New_York
X-WR-TIMEZONE:America/New_York
BEGIN:VEVENT
UID:509@macontracks.org
DTSTART;TZID=America/New_York:20220312T080000
DTEND;TZID=America/New_York:20220314T080000
DTSTAMP:20220214T223236Z
URL:https://macontracks.org/events/forsythia-festival-5k-2/
SUMMARY:Forsythia Festival 5K
DESCRIPTION:The Forsythia Festival 5K\, is a part of the 34th Annual Forsyt
 hia Festival and is sponsored by Monroe Physical Therapy &amp\; Wellness.
   The Race begins and ends at FitCo Health Club.  After the race stick a
 round for the Forsythia Festival. This free\, family-fun event features a 
 two-day arts-and-crafts show\, sporting tournaments\, and much more!  Mor
 e information about the festival is at https://www.forsythiafestival.com/.
ATTACH;FMTTYPE=image/jpeg:https://macontracks.org/wp-content/uploads/2019/
 01/Forsythia-Hellow-Yellow-5k-2019.png
CATEGORIES:5K
LOCATION:FitCo Healthclub\, 833 Patrol Road\, Forsyth\, Georgia\, United St
 ates
GEO:33.0342974;-83.938242
X-APPLE-STRUCTURED-LOCATION;VALUE=URI;X-ADDRESS=833 Patrol Road\, Forsyth\,
  Georgia\, United States;X-APPLE-RADIUS=100;X-TITLE=FitCo Healthclub:geo:3
 3.0342974,-83.938242
END:VEVENT
BEGIN:VTIMEZONE
TZID:America/New_York
X-LIC-LOCATION:America/New_York
BEGIN:STANDARD
DTSTART:20211107T010000
TZOFFSETFROM:-0400
TZOFFSETTO:-0500
TZNAME:EST
END:STANDARD
BEGIN:DAYLIGHT
DTSTART:20220313T030000
TZOFFSETFROM:-0500
TZOFFSETTO:-0400
TZNAME:EDT
END:DAYLIGHT
END:VTIMEZONE
END:VCALENDAR