BEGIN:VCALENDAR
VERSION:2.0
PRODID:-//wp-events-plugin.com//7.2.3.1//EN
TZID:America/New_York
X-WR-TIMEZONE:America/New_York
BEGIN:VEVENT
UID:412@macontracks.org
DTSTART;TZID=America/New_York;VALUE=DATE:20200915
DTEND;TZID=America/New_York;VALUE=DATE:20201001
DTSTAMP:20200827T194809Z
URL:https://macontracks.org/events/full-steam-ahead-virtual-race/
SUMMARY:Full STEAM Ahead Virtual Race
DESCRIPTION:Grab your shoes and a few good running partners and join us for
  our inaugural virtual Full STEAM Ahead Fun Run\, 5k\, 10k Race! Families\
 , friends\, and individuals of all ages are invited to come together to ra
 ce\, run or walk for STEM/STEAM education in Central Georgia. The mission 
 of Real IMPACT is to expose underrepresented minority girls to Science\, T
 echnology\, Engineering\, Arts &amp\; Math education\, and careers while t
 eaching life skills along the way.\n\nNote: The proposed dates to run the 
 course of your choice are September 15th-30th. For more information see th
 e race website.
ATTACH;FMTTYPE=image/jpeg:https://macontracks.org/wp-content/uploads/2020/
 08/Full-STEAM-Ahead.png
CATEGORIES:5K,Run and See Georgia Grand Prix
END:VEVENT
BEGIN:VTIMEZONE
TZID:America/New_York
X-LIC-LOCATION:America/New_York
BEGIN:DAYLIGHT
DTSTART:20200308T030000
TZOFFSETFROM:-0500
TZOFFSETTO:-0400
TZNAME:EDT
END:DAYLIGHT
END:VTIMEZONE
END:VCALENDAR