BEGIN:VCALENDAR
VERSION:2.0
PRODID:-//wp-events-plugin.com//7.2.3.1//EN
TZID:America/New_York
X-WR-TIMEZONE:America/New_York
BEGIN:VEVENT
UID:506@macontracks.org
DTSTART;TZID=America/New_York:20220507T080000
DTEND;TZID=America/New_York:20220507T080000
DTSTAMP:20220311T133928Z
URL:https://macontracks.org/events/georgia-5k-run-for-breast-cancer-3/
SUMMARY:Georgia 5K Run for Breast Cancer
DESCRIPTION:It’s The Journey's 4th Annual 5K to help support central Geor
 gians facing breast cancer! The Georgia 5K Run for Breast Cancer launches 
 on Saturday\, May 7th at The Shoppes at River Crossing\, Macon. The race b
 egins at 8:00 a.m. and is a run/walk event. Over the past 18 years\, It’
 s The Journey (a local 501(c)3 nonprofit) has funded 431 grants totaling 
 $16.5 million to support breast health programs throughout Georgia.
ATTACH;FMTTYPE=image/jpeg:https://macontracks.org/wp-content/uploads/2019/
 07/Ga-5K-Run-For-Breast-Cancer.png
CATEGORIES:5K
LOCATION:Shoppes at River Crossing\, 5080 Riverside Dr.\, Macon\, Georgia\,
  31210\, United States
GEO:32.9250006;-83.71510549999999
X-APPLE-STRUCTURED-LOCATION;VALUE=URI;X-ADDRESS=5080 Riverside Dr.\, Macon\
 , Georgia\, 31210\, United States;X-APPLE-RADIUS=100;X-TITLE=Shoppes at Ri
 ver Crossing:geo:32.9250006,-83.71510549999999
END:VEVENT
BEGIN:VTIMEZONE
TZID:America/New_York
X-LIC-LOCATION:America/New_York
BEGIN:DAYLIGHT
DTSTART:20220313T030000
TZOFFSETFROM:-0500
TZOFFSETTO:-0400
TZNAME:EDT
END:DAYLIGHT
END:VTIMEZONE
END:VCALENDAR