BEGIN:VCALENDAR
VERSION:2.0
PRODID:-//wp-events-plugin.com//7.2.3.1//EN
TZID:America/New_York
X-WR-TIMEZONE:America/New_York
BEGIN:VEVENT
UID:750@macontracks.org
DTSTART;TZID=America/New_York:20260509T080000
DTEND;TZID=America/New_York:20260509T100000
DTSTAMP:20260301T190338Z
URL:https://macontracks.org/events/georgia-5k-run-walk-for-breast-cancer-4
 /
SUMMARY:Georgia 5K Run/Walk for Breast Cancer
DESCRIPTION:\nJoin us for a family-friendly run/walk event for participants
  of all fitness levels! The Georgia 5K Run/Walk for Breast Cancer\, a prof
 essionally timed event\, takes place in beautiful Macon\, Georgia. Support
  GAABC’s mission to raise vital funds and expand our reach in the fight 
 against breast cancer. Be part of this exciting community event and help m
 ake a lasting impact by participating.\nRace Contact Info: info@gaabc.org
ATTACH;FMTTYPE=image/jpeg:https://macontracks.org/wp-content/uploads/2026/
 03/Georgia_5K_Logo-withicon.bmp
CATEGORIES:5K
LOCATION:Shoppes at River Crossing\, 5080 Riverside Dr.\, Macon\, Georgia\,
  31210\, United States
GEO:32.9250006;-83.71510549999999
X-APPLE-STRUCTURED-LOCATION;VALUE=URI;X-ADDRESS=5080 Riverside Dr.\, Macon\
 , Georgia\, 31210\, United States;X-APPLE-RADIUS=100;X-TITLE=Shoppes at Ri
 ver Crossing:geo:32.9250006,-83.71510549999999
END:VEVENT
BEGIN:VTIMEZONE
TZID:America/New_York
X-LIC-LOCATION:America/New_York
BEGIN:DAYLIGHT
DTSTART:20260308T030000
TZOFFSETFROM:-0500
TZOFFSETTO:-0400
TZNAME:EDT
END:DAYLIGHT
END:VTIMEZONE
END:VCALENDAR