BEGIN:VCALENDAR
VERSION:2.0
PRODID:-//wp-events-plugin.com//7.2.3.1//EN
TZID:America/New_York
X-WR-TIMEZONE:America/New_York
BEGIN:VEVENT
UID:673@macontracks.org
DTSTART;TZID=America/New_York:20240914T083000
DTEND;TZID=America/New_York:20240914T083000
DTSTAMP:20240905T225147Z
URL:https://macontracks.org/events/georgia-college-miracle-5k/
SUMMARY:Georgia College Miracle 5K
DESCRIPTION:It's time for the annual BKO Miracle Mile 5K\, hosted by GC Mir
 acle! The top 3 winners for Men and Women get a prize\, and all proceeds g
 o to the Beverly Knight Olson Children's Hospital in Macon!  GC Miracle i
 s a student organization dedicated to raising money for the Beverly Knight
  Olson Children's Hospital in Macon\, Ga.
ATTACH;FMTTYPE=image/jpeg:https://macontracks.org/wp-content/uploads/2024/
 09/gc-miracle-logo.png
CATEGORIES:5K
LOCATION:Georgia College West Campus\, 120 W Campus Dr.\, Milledgeville\, G
 eorgia\, 31061\, United States
X-APPLE-STRUCTURED-LOCATION;VALUE=URI;X-ADDRESS=120 W Campus Dr.\, Milledge
 ville\, Georgia\, 31061\, United States;X-APPLE-RADIUS=100;X-TITLE=Georgia
  College West Campus:geo:0,0
END:VEVENT
BEGIN:VTIMEZONE
TZID:America/New_York
X-LIC-LOCATION:America/New_York
BEGIN:DAYLIGHT
DTSTART:20240310T030000
TZOFFSETFROM:-0500
TZOFFSETTO:-0400
TZNAME:EDT
END:DAYLIGHT
END:VTIMEZONE
END:VCALENDAR