BEGIN:VCALENDAR
VERSION:2.0
PRODID:-//wp-events-plugin.com//7.2.3.1//EN
TZID:America/New_York
X-WR-TIMEZONE:America/New_York
BEGIN:VEVENT
UID:522@macontracks.org
DTSTART;TZID=America/New_York:20220528T083000
DTEND;TZID=America/New_York:20220528T083000
DTSTAMP:20220515T093402Z
URL:https://macontracks.org/events/georgia-kinship-project-5k/
SUMMARY:Georgia Kinship Project 5K
DESCRIPTION:The Georgia Kinship Project Inc. is a nonprofit organization de
 dicated to helping relative caregivers that are parenting children at risk
  of entering foster care. The Kinship Project helps with outreach\, educat
 ion\, and support programs. Funds raised from this race will be used for b
 asic needs such as car seats and beds.
ATTACH;FMTTYPE=image/jpeg:https://macontracks.org/wp-content/uploads/2022/
 05/gkp.jpeg
CATEGORIES:5K
LOCATION:Tanner Park\, 200 Carl Vinson Parkway\, Warner Robins\, Georgia\, 
 31088\, United States
GEO:32.596137;-83.662464
X-APPLE-STRUCTURED-LOCATION;VALUE=URI;X-ADDRESS=200 Carl Vinson Parkway\, W
 arner Robins\, Georgia\, 31088\, United States;X-APPLE-RADIUS=100;X-TITLE=
 Tanner Park:geo:32.596137,-83.662464
END:VEVENT
BEGIN:VTIMEZONE
TZID:America/New_York
X-LIC-LOCATION:America/New_York
BEGIN:DAYLIGHT
DTSTART:20220313T030000
TZOFFSETFROM:-0500
TZOFFSETTO:-0400
TZNAME:EDT
END:DAYLIGHT
END:VTIMEZONE
END:VCALENDAR