BEGIN:VCALENDAR
VERSION:2.0
PRODID:-//wp-events-plugin.com//7.2.3.1//EN
TZID:America/New_York
X-WR-TIMEZONE:America/New_York
BEGIN:VEVENT
UID:355@macontracks.org
DTSTART;TZID=America/New_York:20190928T090000
DTEND;TZID=America/New_York:20190928T090000
DTSTAMP:20190804T141605Z
URL:https://macontracks.org/events/go-fight-run-5k/
SUMMARY:Go Fight Run! 5K
DESCRIPTION:Praetorian CrossFit is hosting this run as part of the gym’s 
 charity efforts benefiting a local family with childhood cancer. There is 
 some hefty prize money up for grabs along with a fun CrossFit division to 
 test your running and mental fitness! Check out the registration link for 
 more information on how to sign up and donate to the cause today. 
ATTACH;FMTTYPE=image/jpeg:https://macontracks.org/wp-content/uploads/2019/
 08/Go-Fight-Run-5K.png
CATEGORIES:5K
LOCATION:New Perry Hotel\, 800 Main St\, Perry\, Georgia\, 31069\, Houston 
 County\, United States
GEO:32.457211;-83.733910
X-APPLE-STRUCTURED-LOCATION;VALUE=URI;X-ADDRESS=800 Main St\, Perry\, Georg
 ia\, 31069\, Houston County\, United States;X-APPLE-RADIUS=100;X-TITLE=New
  Perry Hotel:geo:32.457211,-83.733910
END:VEVENT
BEGIN:VTIMEZONE
TZID:America/New_York
X-LIC-LOCATION:America/New_York
BEGIN:DAYLIGHT
DTSTART:20190310T030000
TZOFFSETFROM:-0500
TZOFFSETTO:-0400
TZNAME:EDT
END:DAYLIGHT
END:VTIMEZONE
END:VCALENDAR