BEGIN:VCALENDAR
VERSION:2.0
PRODID:-//wp-events-plugin.com//7.2.3.1//EN
TZID:America/New_York
X-WR-TIMEZONE:America/New_York
BEGIN:VEVENT
UID:510@macontracks.org
DTSTART;TZID=America/New_York:20220611T080000
DTEND;TZID=America/New_York:20220611T080000
DTSTAMP:20220606T004820Z
URL:https://macontracks.org/events/halo-5k-race-4/
SUMMARY:HALO 5K Race
DESCRIPTION:Help raise funds for the HALO Group in Perry which strives to h
 elp adults with developmental disabilities and autism to become valued mem
 bers of our community and help our community become a stronger place. HALO
  has recently purchased the New Perry Hotel. They will employ and temporar
 ily house adults with developmental disabilities while teaching them skill
 s in the restaurant and hotel businesses along with horticulture and garde
 ning skills. \n\n&nbsp\;
ATTACH;FMTTYPE=image/jpeg:https://macontracks.org/wp-content/uploads/2022/
 02/HALO-2022.png
CATEGORIES:5K,Run and See Georgia Grand Prix
LOCATION:Lane Southern Orchards\, 50 Lane Road\, Fort Valley\, GA\, United 
 States
GEO:32.5556071;-83.8273595
X-APPLE-STRUCTURED-LOCATION;VALUE=URI;X-ADDRESS=50 Lane Road\, Fort Valley\
 , GA\, United States;X-APPLE-RADIUS=100;X-TITLE=Lane Southern Orchards:geo
 :32.5556071,-83.8273595
END:VEVENT
BEGIN:VTIMEZONE
TZID:America/New_York
X-LIC-LOCATION:America/New_York
BEGIN:DAYLIGHT
DTSTART:20220313T030000
TZOFFSETFROM:-0500
TZOFFSETTO:-0400
TZNAME:EDT
END:DAYLIGHT
END:VTIMEZONE
END:VCALENDAR