BEGIN:VCALENDAR
VERSION:2.0
PRODID:-//wp-events-plugin.com//7.2.3.1//EN
TZID:America/New_York
X-WR-TIMEZONE:America/New_York
BEGIN:VEVENT
UID:697@macontracks.org
DTSTART;TZID=America/New_York:20250607T080000
DTEND;TZID=America/New_York:20250607T110000
DTSTAMP:20250313T145854Z
URL:https://macontracks.org/events/halo-5k-race-6/
SUMMARY:HALO 5K Race
DESCRIPTION:Online Registration\nThis event will raise funds for the HALO G
 roup in Perry\, Georgia.&nbsp\; The HALO Group is a vocational and life sk
 ills day program that serves adults (teammates) with developmental disabil
 ities and autism. &nbsp\;\nThe goal of the HALO Group is to enrich each te
 ammate's overall quality of life and help each one become as independent a
 s possible. We also strive to assist those who are able in finding equitab
 le and viable employment within the community while offering continued job
  coaching to sustain employment.\n&nbsp\;
ATTACH;FMTTYPE=image/jpeg:https://macontracks.org/wp-content/uploads/2025/
 03/halo-5k-2025.png
CATEGORIES:5K
LOCATION:Georgia National Fairgrounds\, 401 Larry Walker Parkway\, Perry\, 
 Georgia\, 31068\, United States
X-APPLE-STRUCTURED-LOCATION;VALUE=URI;X-ADDRESS=401 Larry Walker Parkway\, 
 Perry\, Georgia\, 31068\, United States;X-APPLE-RADIUS=100;X-TITLE=Georgia
  National Fairgrounds:geo:0,0
END:VEVENT
BEGIN:VTIMEZONE
TZID:America/New_York
X-LIC-LOCATION:America/New_York
BEGIN:DAYLIGHT
DTSTART:20250309T030000
TZOFFSETFROM:-0500
TZOFFSETTO:-0400
TZNAME:EDT
END:DAYLIGHT
END:VTIMEZONE
END:VCALENDAR