BEGIN:VCALENDAR
VERSION:2.0
PRODID:-//wp-events-plugin.com//7.2.3.1//EN
TZID:America/New_York
X-WR-TIMEZONE:America/New_York
BEGIN:VEVENT
UID:584@macontracks.org
DTSTART;TZID=America/New_York:20230930T083000
DTEND;TZID=America/New_York:20230930T083000
DTSTAMP:20230721T154432Z
URL:https://macontracks.org/events/houstonhealthy-5k-and-1-mile-fun-run-2/
SUMMARY:#HoustonHealthy 5K and 1-mile Fun Run
DESCRIPTION:\n\n\n\n&nbsp\;\n\nHouston Healthcare is excited to host its se
 cond annual #HoustonHealthy 5K Race\, Fun Run and Health Expo on Saturday\
 , September 30.  The runs are followed by a Wellness Expo with free on-si
 te health screenings\, a 20-foot “Mega Colon” walk-through exhibit\, c
 ommunity vendors and food trucks. There will be FREE bouncy houses for the
  kids. Awards will be given at the end with giveaways and raffle prizes. L
 ocal police\, firemen and EMS will be on-site.
ATTACH;FMTTYPE=image/jpeg:https://macontracks.org/wp-content/uploads/2022/
 07/HoustonHealthy.png
CATEGORIES:5K,Fun Run
LOCATION:Sonny Watson Health Pavilion\, 233 North Houston Rd.\, Warner Robi
 ns\, Georgia\, 31093\, United States
X-APPLE-STRUCTURED-LOCATION;VALUE=URI;X-ADDRESS=233 North Houston Rd.\, War
 ner Robins\, Georgia\, 31093\, United States;X-APPLE-RADIUS=100;X-TITLE=So
 nny Watson Health Pavilion:geo:0,0
END:VEVENT
BEGIN:VTIMEZONE
TZID:America/New_York
X-LIC-LOCATION:America/New_York
BEGIN:DAYLIGHT
DTSTART:20230312T030000
TZOFFSETFROM:-0500
TZOFFSETTO:-0400
TZNAME:EDT
END:DAYLIGHT
END:VTIMEZONE
END:VCALENDAR