BEGIN:VCALENDAR
VERSION:2.0
PRODID:-//wp-events-plugin.com//7.2.3.1//EN
TZID:America/New_York
X-WR-TIMEZONE:America/New_York
BEGIN:VEVENT
UID:523@macontracks.org
DTSTART;TZID=America/New_York:20221029T080000
DTEND;TZID=America/New_York:20221029T080000
DTSTAMP:20221003T184407Z
URL:https://macontracks.org/events/jays-hope-trek-or-treat-road-race-2/
SUMMARY:Jay's Hope Trek or Treat Road Race
DESCRIPTION:\n\n\n\n35\,000 pieces of candy\, 1\,000 runners and walkers\, 
 hundreds of costumes\, and a whole lot of FUN!  Register for the 17th ann
 ual Trek or Treat Road Race presented by Chick-fil-A and GEICO! There is a
 n event for everyone: the chip-timed 5K and 10K races\, the mile-long unSp
 ooky Sprint\, and the Candy Mile with thousands of treats for kids 12 and 
 under! These family-friendly events will be held at Bass Pro Shops in Maco
 n. Proceeds benefit Jay’s HOPE Foundation\, helping families with childr
 en who have cancer.
ATTACH;FMTTYPE=image/jpeg:https://macontracks.org/wp-content/uploads/2021/
 06/JaysHopeTrekorTreat10302021.jpg
CATEGORIES:10K,5K,Fun Run,THIS IS A MACON TRACKS/ORTHOGA POINTS SERIES
 RACE
LOCATION:Bass Pro Shops\,  5000 Bass Pro Blvd\, Macon\, GA\, 31210\, United
  States
GEO:32.9338339;-83.7382834
X-APPLE-STRUCTURED-LOCATION;VALUE=URI;X-ADDRESS= 5000 Bass Pro Blvd\, Macon
 \, GA\, 31210\, United States;X-APPLE-RADIUS=100;X-TITLE=Bass Pro Shops:ge
 o:32.9338339,-83.7382834
END:VEVENT
BEGIN:VTIMEZONE
TZID:America/New_York
X-LIC-LOCATION:America/New_York
BEGIN:DAYLIGHT
DTSTART:20220313T030000
TZOFFSETFROM:-0500
TZOFFSETTO:-0400
TZNAME:EDT
END:DAYLIGHT
END:VTIMEZONE
END:VCALENDAR