BEGIN:VCALENDAR
VERSION:2.0
PRODID:-//wp-events-plugin.com//7.2.3.1//EN
TZID:America/New_York
X-WR-TIMEZONE:America/New_York
BEGIN:VEVENT
UID:492@macontracks.org
DTSTART;TZID=America/New_York:20221210T080000
DTEND;TZID=America/New_York:20221210T080000
DTSTAMP:20220423T161754Z
URL:https://macontracks.org/events/jingle-jog-5k-run-walk/
SUMMARY:Jingle Jog 5K Run/Walk
DESCRIPTION:Perry High School Track and Field will be hosting the annual Ji
 ngle Jog 5K (formally hosted by Langston Road Elementary School).  The ra
 ce begins at the Perry Welcome Center. The fastest male and female finishe
 rs will receive a $50 gift card as well as the fastest Masters (40 and ove
 r). Santa will be onsite on race day for photos!\n*** Save the date! ***\n
 Registration opens soon.
ATTACH;FMTTYPE=image/jpeg:https://macontracks.org/wp-content/uploads/2021/
 10/jingle-jog-2021.jpeg
CATEGORIES:5K
LOCATION:Perry Welcome Center\, 101 Courtney Hodges Blvd\, Perry\, GA\, Uni
 ted States
GEO:32.4432733;-83.75432089999998
X-APPLE-STRUCTURED-LOCATION;VALUE=URI;X-ADDRESS=101 Courtney Hodges Blvd\, 
 Perry\, GA\, United States;X-APPLE-RADIUS=100;X-TITLE=Perry Welcome Center
 :geo:32.4432733,-83.75432089999998
END:VEVENT
BEGIN:VTIMEZONE
TZID:America/New_York
X-LIC-LOCATION:America/New_York
BEGIN:STANDARD
DTSTART:20221106T010000
TZOFFSETFROM:-0400
TZOFFSETTO:-0500
TZNAME:EST
END:STANDARD
END:VTIMEZONE
END:VCALENDAR