BEGIN:VCALENDAR
VERSION:2.0
PRODID:-//wp-events-plugin.com//7.2.3.1//EN
TZID:America/New_York
X-WR-TIMEZONE:America/New_York
BEGIN:VEVENT
UID:405@macontracks.org
DTSTART;TZID=America/New_York;VALUE=DATE:20200912
DTEND;TZID=America/New_York;VALUE=DATE:20200920
DTSTAMP:20200731T103157Z
URL:https://macontracks.org/events/joshuas-wish-5k-run-walk-2/
SUMMARY:11th Annual Joshua's Wish Run in Spirit: A Virtual 5K Run & Walk
DESCRIPTION:Joshua’s Wish 5K Run/Walk\, held during Childhood Cancer Awar
 eness month in September\, is an annual race that raises funds to support 
 childhood cancer research and spread awareness. This year marks the 11th r
 ace. In accordance with COVID-19 prevention measures\, this race is going 
 to be a virtual experience! Join in the fun by running or walking on any c
 ourse you like\, whether that be outside or on a treadmill\, for 5K (that
 ’s 3.1 miles) and track your time. Let us know of your time and distance
  so that we can celebrate your accomplishments through social media. T-shi
 rts and Medals for all finishers! Although racers may not all be together\
 , by “running in spirit\,” physical activity and the power of unity ma
 ke it possible for Joshua’s Wish to come one step closer to finding a cu
 re for childhood cancers.\n&nbsp\;
ATTACH;FMTTYPE=image/jpeg:https://macontracks.org/wp-content/uploads/2015/
 06/JoshuasWish.jpg?ver=1721123364
CATEGORIES:5K
END:VEVENT
BEGIN:VTIMEZONE
TZID:America/New_York
X-LIC-LOCATION:America/New_York
BEGIN:DAYLIGHT
DTSTART:20200308T030000
TZOFFSETFROM:-0500
TZOFFSETTO:-0400
TZNAME:EDT
END:DAYLIGHT
END:VTIMEZONE
END:VCALENDAR