BEGIN:VCALENDAR
VERSION:2.0
PRODID:-//wp-events-plugin.com//7.2.3.1//EN
TZID:America/New_York
X-WR-TIMEZONE:America/New_York
BEGIN:VEVENT
UID:467@macontracks.org
DTSTART:20210501T130000Z
DTEND:20210501T130000Z
DTSTAMP:20210424T234639Z
URL:https://macontracks.org/events/junior-league-of-macon-5k-10k-and-1-mil
 e-fun-run-4/
SUMMARY:Junior League of Macon 5K and 10K
DESCRIPTION:The Junior League Road Race is a USTAF certified 5K and 10K thr
 ough Downtown Macon\, ending at Central City Park (the same route as the L
 abor Day Road Race). The 10K starts at Run Fit Sports at 8:00 AM and the 5
 K starts at Vineville Baptist Church at 8:45 AM.\n\n\nThis is a family-fri
 endly event\, and the 10K and 5K races are designed for runners and walker
 s of all ages and abilities. Enjoy the downhill route and great overall co
 urse as you strive for that personal record!\n\nRegister today! (Same day 
 sign-up available).\n\n
ATTACH;FMTTYPE=image/jpeg:https://macontracks.org/wp-content/uploads/2017/
 11/jlm-jpeg-e1511214388487.jpg
CATEGORIES:10K,5K
LOCATION:Vineville Baptist Church\, 2591 Vineville Ave\, Macon\, GA\, 31204
 \, United States
GEO:32.8465572;-83.66220679999998
X-APPLE-STRUCTURED-LOCATION;VALUE=URI;X-ADDRESS=2591 Vineville Ave\, Macon\
 , GA\, 31204\, United States;X-APPLE-RADIUS=100;X-TITLE=Vineville Baptist 
 Church:geo:32.8465572,-83.66220679999998
END:VEVENT
END:VCALENDAR