BEGIN:VCALENDAR
VERSION:2.0
PRODID:-//wp-events-plugin.com//7.2.3.1//EN
TZID:America/New_York
X-WR-TIMEZONE:America/New_York
BEGIN:VEVENT
UID:706@macontracks.org
DTSTART;TZID=America/New_York:20250503T080000
DTEND;TZID=America/New_York:20250503T080000
DTSTAMP:20250403T144720Z
URL:https://macontracks.org/events/lakens-legacy-5k-run-for-laken-riley/
SUMMARY:Laken’s Legacy 5K – Run for Laken Riley
DESCRIPTION:\nA fun morning to remember and honor Laken Riley and raise fun
 ds for the Laken Hope Foundation. Music\, door prizes\, t-shirts\, and awa
 rds with an option to participate in a short self-defense class immediatel
 y following the event. More information on this event is at Laken's Legacy
  5K.
ATTACH;FMTTYPE=image/jpeg:https://macontracks.org/wp-content/uploads/2025/
 04/Lakens-Legacy.png
CATEGORIES:5K
LOCATION:Georgia College West Campus\, 120 W Campus Dr.\, Milledgeville\, G
 eorgia\, 31061\, United States
X-APPLE-STRUCTURED-LOCATION;VALUE=URI;X-ADDRESS=120 W Campus Dr.\, Milledge
 ville\, Georgia\, 31061\, United States;X-APPLE-RADIUS=100;X-TITLE=Georgia
  College West Campus:geo:0,0
END:VEVENT
BEGIN:VTIMEZONE
TZID:America/New_York
X-LIC-LOCATION:America/New_York
BEGIN:DAYLIGHT
DTSTART:20250309T030000
TZOFFSETFROM:-0500
TZOFFSETTO:-0400
TZNAME:EDT
END:DAYLIGHT
END:VTIMEZONE
END:VCALENDAR