BEGIN:VCALENDAR
VERSION:2.0
PRODID:-//wp-events-plugin.com//7.2.3.1//EN
TZID:America/New_York
X-WR-TIMEZONE:America/New_York
BEGIN:VEVENT
UID:391@macontracks.org
DTSTART;TZID=America/New_York:20200613T183000
DTEND;TZID=America/New_York:20200613T183000
DTSTAMP:20200527T115638Z
URL:https://macontracks.org/events/last-gasp-5k-run-walk/
SUMMARY:Last Gasp 5K Run/Walk
DESCRIPTION:*** Postponed. A new date will be announced soon. ***\nExperien
 ce running or walking through the grounds of the 125-acre Historic Riversi
 de Cemetery in downtown Macon. In addition to the paved course\, the route
  offers views of the Ocmulgee River and downtown Macon. Leashed dogs and s
 trollers are also welcome. Proceeds benefit the mission of supporting pres
 ervation\, conservation and enhancement of the cemetery’s landscape\, bu
 ildings\, monuments and future for all to enjoy.
ATTACH;FMTTYPE=image/jpeg:https://macontracks.org/wp-content/uploads/2020/
 01/LastGaspIG.png
CATEGORIES:5K
LOCATION:Riverside Cemetery & Conservancy\, 1301 Riverside Dr.\, Macon\, Ge
 orgia\, 31201\, Bibb County\, United States
GEO:32.847373;-83.637473
X-APPLE-STRUCTURED-LOCATION;VALUE=URI;X-ADDRESS=1301 Riverside Dr.\, Macon\
 , Georgia\, 31201\, Bibb County\, United States;X-APPLE-RADIUS=100;X-TITLE
 =Riverside Cemetery & Conservancy:geo:32.847373,-83.637473
END:VEVENT
BEGIN:VTIMEZONE
TZID:America/New_York
X-LIC-LOCATION:America/New_York
BEGIN:DAYLIGHT
DTSTART:20200308T030000
TZOFFSETFROM:-0500
TZOFFSETTO:-0400
TZNAME:EDT
END:DAYLIGHT
END:VTIMEZONE
END:VCALENDAR