BEGIN:VCALENDAR
VERSION:2.0
PRODID:-//wp-events-plugin.com//7.2.3.1//EN
TZID:America/New_York
X-WR-TIMEZONE:America/New_York
BEGIN:VEVENT
UID:390@macontracks.org
DTSTART;TZID=America/New_York:20201010T080000
DTEND;TZID=America/New_York:20201010T080000
DTSTAMP:20201006T183414Z
URL:https://macontracks.org/events/lights-on-out-of-school-5k-2/
SUMMARY:Lights On Out of School 5K
DESCRIPTION:This event is a fundraiser for the Next Level Community Develop
 ment Center's (NLCDC) FREE after-school and summer program. Funds raised d
 uring the run/walk will be used in providing a high level of academic inst
 ruction\, youth development\, and college/career readiness activities to M
 iddle Georgia youth falling 150% below the national poverty level and at r
 isk of academic failure. The organization's mission is to educate\, enligh
 ten\, and empower youth and families to make healthy lifestyle choices.
ATTACH;FMTTYPE=image/jpeg:https://macontracks.org/wp-content/uploads/2020/
 01/2020-10-10-LightsOnOutOfSchool-e1579774775837.jpg
CATEGORIES:5K
LOCATION:Amerson River Park\, 2600 Riverview Road\, Macon\, Georgia\, 31204
 \, United States
GEO:32.8739669;-83.65744319999999
X-APPLE-STRUCTURED-LOCATION;VALUE=URI;X-ADDRESS=2600 Riverview Road\, Macon
 \, Georgia\, 31204\, United States;X-APPLE-RADIUS=100;X-TITLE=Amerson Rive
 r Park:geo:32.8739669,-83.65744319999999
END:VEVENT
BEGIN:VTIMEZONE
TZID:America/New_York
X-LIC-LOCATION:America/New_York
BEGIN:DAYLIGHT
DTSTART:20200308T030000
TZOFFSETFROM:-0500
TZOFFSETTO:-0400
TZNAME:EDT
END:DAYLIGHT
END:VTIMEZONE
END:VCALENDAR