BEGIN:VCALENDAR
VERSION:2.0
PRODID:-//wp-events-plugin.com//7.2.3.1//EN
TZID:America/New_York
X-WR-TIMEZONE:America/New_York
BEGIN:VEVENT
UID:442@macontracks.org
DTSTART;TZID=America/New_York:20210403T080000
DTEND;TZID=America/New_York:20210403T080000
DTSTAMP:20210322T162419Z
URL:https://macontracks.org/events/live-run-2-end-alzheimers-5k-10-5k-and-
 fun-run/
SUMMARY:Run 2 End Alzheimer's 5K & 10.5K [Live or Virtual]
DESCRIPTION:\n\n10-Years Strong! Register for the Live or Virtual events.\n
 \nOnline registration is open!   If you deferred your 2020 registration 
 to 2021\, you do not need to register again\; however\, a  year will be 
 added to your age (sorry:&gt\;) If unsure whether you previously registere
 d\, email run2endalz@gmail.com to verify your status\n\nProceeds from th
 is annual run benefit Middle Georgia Alzheimer's Association.  The race i
 s held at Landing Pointe Shopping Center. The 5K course is USATF certified
  and leads through picturesque Statham's Landing.  Discounted entry child
 ren under 12 and Macon Tracks members.  Part of the Macon Tracks OrthoGeo
 rgia Race Series and the Run &amp\; See Georgia Grand Prix.\n\nOnline Regi
 stration (Live or Virtual): Paypal\n\nPrintable Registration Form:\nLIVE\n
 VIRTUAL
ATTACH;FMTTYPE=image/jpeg:https://macontracks.org/wp-content/uploads/2020/
 12/run2endalz_2021_logo-scaled.jpg
CATEGORIES:10K,5K,Fun Run,Run and See Georgia Grand Prix,THIS IS A MACON
 TRACKS/ORTHOGA POINTS SERIES RACE
LOCATION:Landings Pointe Plaza\, 402 GA Hwy. 247 South\, Bonaire\, GA\, Uni
 ted States
GEO:32.5671171;-83.59330169999998
X-APPLE-STRUCTURED-LOCATION;VALUE=URI;X-ADDRESS=402 GA Hwy. 247 South\, Bon
 aire\, GA\, United States;X-APPLE-RADIUS=100;X-TITLE=Landings Pointe Plaza
 :geo:32.5671171,-83.59330169999998
END:VEVENT
BEGIN:VTIMEZONE
TZID:America/New_York
X-LIC-LOCATION:America/New_York
BEGIN:DAYLIGHT
DTSTART:20210314T030000
TZOFFSETFROM:-0500
TZOFFSETTO:-0400
TZNAME:EDT
END:DAYLIGHT
END:VTIMEZONE
END:VCALENDAR