BEGIN:VCALENDAR
VERSION:2.0
PRODID:-//wp-events-plugin.com//7.2.3.1//EN
TZID:America/New_York
X-WR-TIMEZONE:America/New_York
BEGIN:VEVENT
UID:504@macontracks.org
DTSTART;TZID=America/New_York:20220905T073000
DTEND;TZID=America/New_York:20220905T073000
DTSTAMP:20220806T181757Z
URL:https://macontracks.org/events/macon-labor-day-road-race-5k-10k-and-fu
 n-run-5/
SUMMARY:Macon Labor Day Road Race 5K\, 10K\, and Fun Run
DESCRIPTION:\n\n\n\nThe 45th annual Macon Labor Day Road Race features a fa
 st point-to-point course\, chip timing\, gender-specific wicking shirts\, 
 and a family-friendly atmosphere.  The courses are USATF certified and ca
 n be used as a Peachtree Road Race qualifier.  For even more fun\, enter 
 the Parent &amp\; Child\, Husband &amp\; Wife\, or Team of 5 competition.
   This race is part of the Macon Tracks OrthoGeorgia Race Series and the 
 Run &amp\; See Georgia Grand Prix.\n\n \n\n
ATTACH;FMTTYPE=image/jpeg:https://macontracks.org/wp-content/uploads/2021/
 12/2022-MACON-LABOR-DAY-ROAD-RACE-LAYOUT-2.jpg
CATEGORIES:10K,5K,AJC Peachtree Road Race Qualifier,Fun Run,Run and See
 Georgia Grand Prix,THIS IS A MACON TRACKS/ORTHOGA POINTS SERIES RACE
LOCATION:Labor Day 5K Start Location\, 2591 Vineville Ave\, Macon\, GA\, Un
 ited States
GEO:32.8465572;-83.66220679999998
X-APPLE-STRUCTURED-LOCATION;VALUE=URI;X-ADDRESS=2591 Vineville Ave\, Macon\
 , GA\, United States;X-APPLE-RADIUS=100;X-TITLE=Labor Day 5K Start Locatio
 n:geo:32.8465572,-83.66220679999998
END:VEVENT
BEGIN:VTIMEZONE
TZID:America/New_York
X-LIC-LOCATION:America/New_York
BEGIN:DAYLIGHT
DTSTART:20220313T030000
TZOFFSETFROM:-0500
TZOFFSETTO:-0400
TZNAME:EDT
END:DAYLIGHT
END:VTIMEZONE
END:VCALENDAR