BEGIN:VCALENDAR
VERSION:2.0
PRODID:-//wp-events-plugin.com//7.2.3.1//EN
TZID:America/New_York
X-WR-TIMEZONE:America/New_York
BEGIN:VEVENT
UID:730@macontracks.org
DTSTART;TZID=America/New_York:20261114T080000
DTEND;TZID=America/New_York:20261114T110000
DTSTAMP:20251118T134426Z
URL:https://macontracks.org/events/p-b-j-5k-race-2/
SUMMARY:P B & J 5K Race
DESCRIPTION:Online Registration\nJoin us for a race supporting Georgia farm
 ers and locally grown products\, with a special nod to our official state 
 crop\, PEANUTS!\n\n	Flat\, fast route\n	Free Fried PB&amp\;J Sandwiches\, 
 a signature delicacy from the Peanut Commission\n	Free peanut butter for&n
 bsp\;each registered racer at the end\n	Unique custom medals\n	Stay after 
 the race and visit the&nbsp\;Georgia National Antique Agriculture Show\, a
  family-friendly event with more than 300 different antique tractors and f
 arm equipment from all across the country\n\nCourse Map (pdf)\nRace contac
 t info: Whitney Mooney\,&nbsp\;wsmooney@gfb.org\nRegistration is expected 
 to open summer 2026
ATTACH;FMTTYPE=image/jpeg:https://macontracks.org/wp-content/uploads/2025/
 05/PB-and-J-5K-Logo-Draft.png
CATEGORIES:5K
LOCATION:Georgia National Fairgrounds\, 401 Larry Walker Parkway\, Perry\, 
 Georgia\, 31068\, United States
X-APPLE-STRUCTURED-LOCATION;VALUE=URI;X-ADDRESS=401 Larry Walker Parkway\, 
 Perry\, Georgia\, 31068\, United States;X-APPLE-RADIUS=100;X-TITLE=Georgia
  National Fairgrounds:geo:0,0
END:VEVENT
BEGIN:VTIMEZONE
TZID:America/New_York
X-LIC-LOCATION:America/New_York
BEGIN:STANDARD
DTSTART:20261101T010000
TZOFFSETFROM:-0400
TZOFFSETTO:-0500
TZNAME:EST
END:STANDARD
END:VTIMEZONE
END:VCALENDAR