BEGIN:VCALENDAR
VERSION:2.0
PRODID:-//wp-events-plugin.com//7.2.3.1//EN
TZID:America/New_York
X-WR-TIMEZONE:America/New_York
BEGIN:VEVENT
UID:22@macontracks.org
DTSTART:20190413T230000Z
DTEND:20190413T230000Z
DTSTAMP:20200117T151522Z
URL:https://macontracks.org/events/phoenix-rising-5k-and-1-mile/
SUMMARY:Phoenix Rising 5K and 1 Mile
DESCRIPTION:This 7th annual race will be held at Reflections Psychotherapy 
 and benefits the Crisis Line and Safe House of Central Georgia.  The cour
 se will be through the neighborhood and community of downtown Gray. There 
 will be lots of activities including a bouncy house\, martial arts demo\, 
 silent auction\, and live music. Festivities start at 4\, race starts at 
 6 pm.\n*** Save the Date. Registration coming soon! ***
ATTACH;FMTTYPE=image/jpeg:https://macontracks.org/wp-content/uploads/2015/
 03/PhoenixRising.jpeg
CATEGORIES:5K,Fun Run,Run and See Georgia Grand Prix
LOCATION:Reflections Psychotherapy\,  111 Dolly Street\, Gray\, GA\, 31032\
 , United States
GEO:33.0096951;-83.534603
X-APPLE-STRUCTURED-LOCATION;VALUE=URI;X-ADDRESS= 111 Dolly Street\, Gray\, 
 GA\, 31032\, United States;X-APPLE-RADIUS=100;X-TITLE=Reflections Psychoth
 erapy:geo:33.0096951,-83.534603
END:VEVENT
END:VCALENDAR