BEGIN:VCALENDAR
VERSION:2.0
PRODID:-//wp-events-plugin.com//7.2.3.1//EN
TZID:America/New_York
X-WR-TIMEZONE:America/New_York
BEGIN:VEVENT
UID:515@macontracks.org
DTSTART;TZID=America/New_York:20220430T090000
DTEND;TZID=America/New_York:20220430T090000
DTSTAMP:20220308T214046Z
URL:https://macontracks.org/events/rainbow-run-5k-and-1-mile-fun-run/
SUMMARY:Rainbow Run 5K and 1 Mile Fun Run
DESCRIPTION:April is Child Abuse Prevention Month. The Rainbow House is a n
 on-profit organization devoted to reducing the occurrence of child abuse a
 nd providing assistance to the victims. We provide a child-friendly facili
 ty where children feel more comfortable talking about their situation. Our
  goal for 2022 is to continue to meet the needs of our community and make 
 a positive impact in Houston County by providing needed support and resour
 ces to families.
ATTACH;FMTTYPE=image/jpeg:https://macontracks.org/wp-content/uploads/2015/
 03/NoExcuse.jpg
CATEGORIES:5K,Fun Run
LOCATION:Central Georgia Technical College\, 80 Cohen Walker Dr\, Warner Ro
 bins\, GA\, 31088\, United States
GEO:32.54577039999999;-83.66816169999998
X-APPLE-STRUCTURED-LOCATION;VALUE=URI;X-ADDRESS=80 Cohen Walker Dr\, Warner
  Robins\, GA\, 31088\, United States;X-APPLE-RADIUS=100;X-TITLE=Central Ge
 orgia Technical College:geo:32.54577039999999,-83.66816169999998
END:VEVENT
BEGIN:VTIMEZONE
TZID:America/New_York
X-LIC-LOCATION:America/New_York
BEGIN:DAYLIGHT
DTSTART:20220313T030000
TZOFFSETFROM:-0500
TZOFFSETTO:-0400
TZNAME:EDT
END:DAYLIGHT
END:VTIMEZONE
END:VCALENDAR