BEGIN:VCALENDAR
VERSION:2.0
PRODID:-//wp-events-plugin.com//7.2.3.1//EN
TZID:America/New_York
X-WR-TIMEZONE:America/New_York
BEGIN:VEVENT
UID:297@macontracks.org
DTSTART;TZID=America/New_York:20190330T083000
DTEND;TZID=America/New_York:20190330T083000
DTSTAMP:20190207T215130Z
URL:https://macontracks.org/events/red-shoe-run-5k-12k/
SUMMARY:Red Shoe Run 5K & 12K
DESCRIPTION:Red Shoe Run is a road race run/walk benefitting Ronald McDonal
 d House Charities of Central Georgia. Runners may choose from distances of
  5K or 12K.  All races begin and end at GEICO One. Red Shoe Run is part o
 f the Macon Tracks Running Club  OrthoGeorgia Race Series.\nPre-race pack
 et pick up and in person registration is available Thursday\, March 28th\,
  from 12 noon - 6 pm and Friday\, March 29th\, from 8:30 am - 5:30 pm at T
 he Ronald McDonald House\, 1160 Forsyth Street in Macon.\n&nbsp\;
ATTACH;FMTTYPE=image/jpeg:https://macontracks.org/wp-content/uploads/2018/
 01/Red_Shoe_Run.jpg
CATEGORIES:12K,5K,THIS IS A MACON TRACKS/ORTHOGA POINTS SERIES RACE
LOCATION:GEICO Regional Office\, 4400 Ocmulgee E Blvd\, Macon\, GA\, United
  States
GEO:32.8076715;-83.56774419999999
X-APPLE-STRUCTURED-LOCATION;VALUE=URI;X-ADDRESS=4400 Ocmulgee E Blvd\, Maco
 n\, GA\, United States;X-APPLE-RADIUS=100;X-TITLE=GEICO Regional Office:ge
 o:32.8076715,-83.56774419999999
END:VEVENT
BEGIN:VTIMEZONE
TZID:America/New_York
X-LIC-LOCATION:America/New_York
BEGIN:DAYLIGHT
DTSTART:20190310T030000
TZOFFSETFROM:-0500
TZOFFSETTO:-0400
TZNAME:EDT
END:DAYLIGHT
END:VTIMEZONE
END:VCALENDAR