BEGIN:VCALENDAR
VERSION:2.0
PRODID:-//wp-events-plugin.com//7.2.3.1//EN
TZID:America/New_York
X-WR-TIMEZONE:America/New_York
BEGIN:VEVENT
UID:383@macontracks.org
DTSTART;TZID=America/New_York:20200404T080000
DTEND;TZID=America/New_York:20200404T080000
DTSTAMP:20200502T202658Z
URL:https://macontracks.org/events/run-2-end-alzheimers-5k-10-5k-and-fun-r
 un-3/
SUMMARY:Run 2 End Alzheimer's 5K\, 10.5K\, and Fun Run
DESCRIPTION:\n\nOur 10th-anniversary run! Proceeds from this annual run ben
 efit the Middle Georgia Alzheimer's Association.  The race is held at Lan
 ding Pointe Plaza in Bonaire. The 5K course is USATF certified and leads t
 hrough picturesque Statham's Landing.  Discounted entry for teams\, child
 ren under 12\, and Macon Tracks members.  Part of the Macon Tracks OrthoG
 eorgia Race Series and the Run &amp\; See Georgia Grand Prix.
ATTACH;FMTTYPE=image/jpeg:https://macontracks.org/wp-content/uploads/2019/
 12/Run-2-End-Alzheimers-2020.png
CATEGORIES:10K,5K,Fun Run,Run and See Georgia Grand Prix,THIS IS A MACON
 TRACKS/ORTHOGA POINTS SERIES RACE
LOCATION:Landings Pointe Plaza\, 402 GA Hwy. 247 South\, Bonaire\, GA\, Uni
 ted States
GEO:32.5671171;-83.59330169999998
X-APPLE-STRUCTURED-LOCATION;VALUE=URI;X-ADDRESS=402 GA Hwy. 247 South\, Bon
 aire\, GA\, United States;X-APPLE-RADIUS=100;X-TITLE=Landings Pointe Plaza
 :geo:32.5671171,-83.59330169999998
END:VEVENT
BEGIN:VTIMEZONE
TZID:America/New_York
X-LIC-LOCATION:America/New_York
BEGIN:DAYLIGHT
DTSTART:20200308T030000
TZOFFSETFROM:-0500
TZOFFSETTO:-0400
TZNAME:EDT
END:DAYLIGHT
END:VTIMEZONE
END:VCALENDAR