BEGIN:VCALENDAR
VERSION:2.0
PRODID:-//wp-events-plugin.com//7.2.3.1//EN
TZID:America/New_York
X-WR-TIMEZONE:America/New_York
BEGIN:VEVENT
UID:409@macontracks.org
DTSTART;TZID=America/New_York:20210220T090000
DTEND;TZID=America/New_York:20210220T090000
DTSTAMP:20210104T225234Z
URL:https://macontracks.org/events/s-c-a-r-e-5k-3/
SUMMARY:S.C.A.R.E. 5K (POSTPONED)
DESCRIPTION:This race has been postponed. The new date has not been determi
 ned.\n\nGeorgia Arrhythmia Foundation\, a non-profit organization\, hosts 
 this annual 5K Run and 1 Mile Wellness Walk to increase community awarenes
 s of sudden cardiac arrest (SCA) and support the need for automated extern
 al defibrillator (AED) placement in schools and other public places as wel
 l as community education regarding basic life support (BLS) training.\n
ATTACH;FMTTYPE=image/jpeg:https://macontracks.org/wp-content/uploads/2016/
 05/scare2.jpg
CATEGORIES:5K,Run and See Georgia Grand Prix,THIS IS A MACON
 TRACKS/ORTHOGA POINTS SERIES RACE
LOCATION:Georgia Premier Cross Country Course\, 3450 Fulton Mill Road\, Mac
 on\, Georgia\, 31216\, Bibb County\, United States
GEO:32.8081222;-83.7454685
X-APPLE-STRUCTURED-LOCATION;VALUE=URI;X-ADDRESS=3450 Fulton Mill Road\, Mac
 on\, Georgia\, 31216\, Bibb County\, United States;X-APPLE-RADIUS=100;X-TI
 TLE=Georgia Premier Cross Country Course:geo:32.8081222,-83.7454685
END:VEVENT
BEGIN:VTIMEZONE
TZID:America/New_York
X-LIC-LOCATION:America/New_York
BEGIN:STANDARD
DTSTART:20201101T010000
TZOFFSETFROM:-0400
TZOFFSETTO:-0500
TZNAME:EST
END:STANDARD
END:VTIMEZONE
END:VCALENDAR