BEGIN:VCALENDAR
VERSION:2.0
PRODID:-//wp-events-plugin.com//7.2.3.1//EN
TZID:America/New_York
X-WR-TIMEZONE:America/New_York
BEGIN:VEVENT
UID:580@macontracks.org
DTSTART;TZID=America/New_York:20230930T090000
DTEND;TZID=America/New_York:20230930T090000
DTSTAMP:20230710T212149Z
URL:https://macontracks.org/events/s-c-a-r-e-5k-6/
SUMMARY:S.C.A.R.E. 5K
DESCRIPTION:\nWe are excited to announce our 13th Annual SCARE 5K which 
 will be held September 30\, 2023\, at Amerson River Park\, in Macon\, Ge
 orgia. The SCARE 5K annual fundraiser for the Georgia Arrhythmia Foundatio
 n (a 501c3 nonprofit organization). Cardiac arrest is the #1 cause of deat
 h in the United States. Your support allows us to provide AEDs to local or
 ganizations and community CPR and AED education. Join us and be a part of 
 making a difference\, as well as\, saving lives in our community.
ATTACH;FMTTYPE=image/jpeg:https://macontracks.org/wp-content/uploads/2021/
 09/SCARE5K.jpg
CATEGORIES:5K,Fun Run
LOCATION:Amerson River Park\, 2551 North Pierce Drive\, Macon\, GA\, 31204\
 , United States
GEO:32.8642973;-83.66192509999996
X-APPLE-STRUCTURED-LOCATION;VALUE=URI;X-ADDRESS=2551 North Pierce Drive\, M
 acon\, GA\, 31204\, United States;X-APPLE-RADIUS=100;X-TITLE=Amerson River
  Park:geo:32.8642973,-83.66192509999996
END:VEVENT
BEGIN:VTIMEZONE
TZID:America/New_York
X-LIC-LOCATION:America/New_York
BEGIN:DAYLIGHT
DTSTART:20230312T030000
TZOFFSETFROM:-0500
TZOFFSETTO:-0400
TZNAME:EDT
END:DAYLIGHT
END:VTIMEZONE
END:VCALENDAR