BEGIN:VCALENDAR
VERSION:2.0
PRODID:-//wp-events-plugin.com//7.2.3.1//EN
TZID:America/New_York
X-WR-TIMEZONE:America/New_York
BEGIN:VEVENT
UID:739@macontracks.org
DTSTART;TZID=America/New_York:20260314T080000
DTEND;TZID=America/New_York:20260314T080000
DTSTAMP:20251230T223946Z
URL:https://macontracks.org/events/spring-fling-5k-run/
SUMMARY:Spring Fling & 5K Run
DESCRIPTION: \nJoin New Beginning Church for a fun-filled community run/wal
 k!\n\n Get active.\n Meet neighbors &amp\; friends.\n Refresh your spirit.
 \n\n\n 620 Wellborn Rd.\n      Warner Robins\, Ga 31088\n\n 8:00 am\n
 \n All ages welcome — walk\, jog\, or run\, strollers welcome.\n Fello
 wship\, music\, refreshments\, and fun after the race.
ATTACH;FMTTYPE=image/jpeg:https://macontracks.org/wp-content/uploads/2025/
 12/New-Beginning-Church.png
CATEGORIES:5K
LOCATION:New Beginning Church\, 620 Wellborn Rd.\, Warner Robins\, Georgia\
 , 31088\, United States
X-APPLE-STRUCTURED-LOCATION;VALUE=URI;X-ADDRESS=620 Wellborn Rd.\, Warner R
 obins\, Georgia\, 31088\, United States;X-APPLE-RADIUS=100;X-TITLE=New Beg
 inning Church:geo:0,0
END:VEVENT
BEGIN:VTIMEZONE
TZID:America/New_York
X-LIC-LOCATION:America/New_York
BEGIN:DAYLIGHT
DTSTART:20260308T030000
TZOFFSETFROM:-0500
TZOFFSETTO:-0400
TZNAME:EDT
END:DAYLIGHT
END:VTIMEZONE
END:VCALENDAR