BEGIN:VCALENDAR
VERSION:2.0
PRODID:-//wp-events-plugin.com//7.2.3.1//EN
TZID:America/New_York
X-WR-TIMEZONE:America/New_York
BEGIN:VEVENT
UID:400@macontracks.org
DTSTART;TZID=America/New_York:20200425T083000
DTEND;TZID=America/New_York:20200425T083000
DTSTAMP:20200408T143423Z
URL:https://macontracks.org/events/third-annual-dick-frame-5k-and-1-mile-f
 un-run-2/
SUMMARY:Third Annual Dick Frame 5K and 1 Mile Fun Run
DESCRIPTION:CANCELED\n\nJoin us for the third annual Dick Frame 5K and 1-mi
 le Fun Run at First Presbyterian Day School in honor of Dick Frame who has
  ALS and has coached at FPD for almost 40 years. Proceeds from the race wi
 ll be used to benefit the ALS Association Georgia Chapter.
ATTACH;FMTTYPE=image/jpeg:https://macontracks.org/wp-content/uploads/2020/
 02/DickFrame20200425-e1582154457778.jpg
CATEGORIES:5K
LOCATION:First Presbyterian Day School\, 5671 Calvin Drive\, Macon\, GA\, U
 nited States
GEO:32.87265800000001;-83.749574
X-APPLE-STRUCTURED-LOCATION;VALUE=URI;X-ADDRESS=5671 Calvin Drive\, Macon\,
  GA\, United States;X-APPLE-RADIUS=100;X-TITLE=First Presbyterian Day Scho
 ol:geo:32.87265800000001,-83.749574
END:VEVENT
BEGIN:VTIMEZONE
TZID:America/New_York
X-LIC-LOCATION:America/New_York
BEGIN:DAYLIGHT
DTSTART:20200308T030000
TZOFFSETFROM:-0500
TZOFFSETTO:-0400
TZNAME:EDT
END:DAYLIGHT
END:VTIMEZONE
END:VCALENDAR