BEGIN:VCALENDAR
VERSION:2.0
PRODID:-//wp-events-plugin.com//7.2.3.1//EN
TZID:America/New_York
X-WR-TIMEZONE:America/New_York
BEGIN:VEVENT
UID:714@macontracks.org
DTSTART;TZID=America/New_York:20251018T200000
DTEND;TZID=America/New_York:20251018T220000
DTSTAMP:20250606T121741Z
URL:https://macontracks.org/events/wrpd-glow-run-5k-3/
SUMMARY:WRPD Glow Run 5K
DESCRIPTION:\nPlease join us for the Warner Robins Police Department Glow R
 un 2025!\nThis event will be held at Freedom Field (111 Bear Country Blvd.
 \, Warner Robins\, GA 31088) on October 18\, 2025. The event will begin at
  6:00 p.m.\, and the race will start at 8:00 p.m.\nBring the family becaus
 e not only is this a Glow in the Dark 5K\, but we will also have the follo
 wing:\n*Food Trucks\, Police &amp\; Fire Vehicles on display\, Vendors\, T
 rick or treating for the kids\, a Halloween costume contest with prizes fo
 r all ages ($50 Visa Gift Card to winners)\, Bouncy Houses\, and Face Pain
 ting!\nA t-shirt and a medal will be guaranteed to the first 500 registere
 d runners. Glow Body Paint\, Glow Necklaces\, and Glow Bracelets will be p
 rovided to each runner on the night of the event in the "GLOW TENT".\nMake
  sure to take lots of photos with the black lights located in the tent. Ma
 ke sure to dress up in all things GLOW!\nIf you have any questions about t
 his event\, please contact the Race Director\, Tonie Hale\, at thale@wrga.
 gov or 478-302-5427.\nProceeds from the Warner Robins Police Department Gl
 ow Run 2025 will go to Special Olympics Georgia
ATTACH;FMTTYPE=image/jpeg:https://macontracks.org/wp-content/uploads/2025/
 06/WRPD-Glow-Run-2025.jpg
CATEGORIES:5K
LOCATION:Houston County High School Freedom Field\, 111 Bear Country Blvd\,
  Warner Robins\, GA\, 31088\, United States
GEO:32.552603;-83.679309
X-APPLE-STRUCTURED-LOCATION;VALUE=URI;X-ADDRESS=111 Bear Country Blvd\, War
 ner Robins\, GA\, 31088\, United States;X-APPLE-RADIUS=100;X-TITLE=Houston
  County High School Freedom Field:geo:32.552603,-83.679309
END:VEVENT
BEGIN:VTIMEZONE
TZID:America/New_York
X-LIC-LOCATION:America/New_York
BEGIN:DAYLIGHT
DTSTART:20250309T030000
TZOFFSETFROM:-0500
TZOFFSETTO:-0400
TZNAME:EDT
END:DAYLIGHT
END:VTIMEZONE
END:VCALENDAR